BEGIN:VCALENDAR
VERSION:2.0
PRODID:-//Scout Menthue - ECPv6.15.20//NONSGML v1.0//EN
CALSCALE:GREGORIAN
METHOD:PUBLISH
X-ORIGINAL-URL:https://scoutmenthue.ch
X-WR-CALDESC:Évènements pour Scout Menthue
REFRESH-INTERVAL;VALUE=DURATION:PT1H
X-Robots-Tag:noindex
X-PUBLISHED-TTL:PT1H
BEGIN:VTIMEZONE
TZID:Europe/Zurich
BEGIN:DAYLIGHT
TZOFFSETFROM:+0100
TZOFFSETTO:+0200
TZNAME:CEST
DTSTART:20250330T010000
END:DAYLIGHT
BEGIN:STANDARD
TZOFFSETFROM:+0200
TZOFFSETTO:+0100
TZNAME:CET
DTSTART:20251026T010000
END:STANDARD
BEGIN:DAYLIGHT
TZOFFSETFROM:+0100
TZOFFSETTO:+0200
TZNAME:CEST
DTSTART:20260329T010000
END:DAYLIGHT
BEGIN:STANDARD
TZOFFSETFROM:+0200
TZOFFSETTO:+0100
TZNAME:CET
DTSTART:20261025T010000
END:STANDARD
BEGIN:DAYLIGHT
TZOFFSETFROM:+0100
TZOFFSETTO:+0200
TZNAME:CEST
DTSTART:20270328T010000
END:DAYLIGHT
BEGIN:STANDARD
TZOFFSETFROM:+0200
TZOFFSETTO:+0100
TZNAME:CET
DTSTART:20271031T010000
END:STANDARD
END:VTIMEZONE
BEGIN:VEVENT
DTSTART;VALUE=DATE:20260713
DTEND;VALUE=DATE:20260723
DTSTAMP:20260420T115126
CREATED:20230911T152407Z
LAST-MODIFIED:20251001T151213Z
UID:3380-1783900800-1784764799@scoutmenthue.ch
SUMMARY:Camp d'été 2026
DESCRIPTION:Infos suivront. \nPour les louveteaux\, du 13 au 18 juillet.\nPour les éclaireurs\, du 13 au 22 juillet.
URL:https://scoutmenthue.ch/evenement/camp-dete-eclaireurs/
LOCATION:Démoret
CATEGORIES:Pico,Rencontres éclaireurs,Rencontres meute
ORGANIZER;CN="Bartim%C3%A9e L%C3%A4mmler":MAILTO:bart.lammler@gmail.com
END:VEVENT
END:VCALENDAR